Package: adSplit Version: 1.79.0 Command: /home/biocbuild/bbs-3.22-bioc/R/bin/R CMD INSTALL adSplit StartedAt: 2025-10-24 15:50:18 -0400 (Fri, 24 Oct 2025) EndedAt: 2025-10-24 15:50:35 -0400 (Fri, 24 Oct 2025) EllapsedTime: 16.5 seconds RetCode: 0 Status: OK