Package: adSplit Version: 1.80.0 Command: /Library/Frameworks/R.framework/Resources/bin/R CMD INSTALL adSplit StartedAt: 2025-11-03 15:20:09 -0500 (Mon, 03 Nov 2025) EndedAt: 2025-11-03 15:20:15 -0500 (Mon, 03 Nov 2025) EllapsedTime: 6.2 seconds RetCode: 0 Status: OK