Package: abseqR Version: 1.27.0 Command: /Library/Frameworks/R.framework/Resources/bin/R CMD INSTALL abseqR StartedAt: 2025-10-24 15:08:54 -0400 (Fri, 24 Oct 2025) EndedAt: 2025-10-24 15:09:07 -0400 (Fri, 24 Oct 2025) EllapsedTime: 12.3 seconds RetCode: 0 Status: OK