Package: abseqR Version: 1.27.0 Command: /Library/Frameworks/R.framework/Resources/bin/R CMD build --keep-empty-dirs --no-resave-data abseqR StartedAt: 2025-10-24 15:38:17 -0400 (Fri, 24 Oct 2025) EndedAt: 2025-10-24 15:40:15 -0400 (Fri, 24 Oct 2025) EllapsedTime: 118.3 seconds RetCode: 0 Status: OK PackageFile: abseqR_1.27.0.tar.gz PackageFileSize: 2.902 MiB