Package: aCGH Version: 1.87.0 Command: /home/biocbuild/bbs-3.22-bioc/R/bin/R CMD build --keep-empty-dirs --no-resave-data --md5 aCGH StartedAt: 2025-10-24 16:18:33 -0400 (Fri, 24 Oct 2025) EndedAt: 2025-10-24 16:19:00 -0400 (Fri, 24 Oct 2025) EllapsedTime: 27.0 seconds RetCode: 0 Status: OK PackageFile: aCGH_1.87.0.tar.gz PackageFileSize: 2.221 MiB