Package: a4Preproc Version: 1.57.0 Command: /Library/Frameworks/R.framework/Resources/bin/R CMD INSTALL a4Preproc StartedAt: 2025-10-24 15:22:01 -0400 (Fri, 24 Oct 2025) EndedAt: 2025-10-24 15:22:06 -0400 (Fri, 24 Oct 2025) EllapsedTime: 4.8 seconds RetCode: 0 Status: OK