Package: a4Preproc Version: 1.57.0 Command: /Library/Frameworks/R.framework/Resources/bin/R CMD build --keep-empty-dirs --no-resave-data a4Preproc StartedAt: 2025-10-24 16:05:42 -0400 (Fri, 24 Oct 2025) EndedAt: 2025-10-24 16:05:57 -0400 (Fri, 24 Oct 2025) EllapsedTime: 14.9 seconds RetCode: 0 Status: OK PackageFile: a4Preproc_1.57.0.tar.gz PackageFileSize: 288.3 KiB