Package: a4Preproc Version: 1.57.0 Command: /Library/Frameworks/R.framework/Resources/bin/R CMD INSTALL a4Preproc StartedAt: 2025-10-26 15:06:46 -0400 (Sun, 26 Oct 2025) EndedAt: 2025-10-26 15:06:47 -0400 (Sun, 26 Oct 2025) EllapsedTime: 1.3 seconds RetCode: 0 Status: OK