Package: a4Preproc Version: 1.57.0 Command: rm -rf a4Preproc.buildbin-libdir && mkdir a4Preproc.buildbin-libdir && /Users/biocbuild/BBS/utils/build-universal.sh a4Preproc_1.57.0.tar.gz /Library/Frameworks/R.framework/Resources/bin/R a4Preproc.buildbin-libdir StartedAt: 2025-10-26 22:28:10 -0400 (Sun, 26 Oct 2025) EndedAt: 2025-10-26 22:28:13 -0400 (Sun, 26 Oct 2025) EllapsedTime: 2.0 seconds RetCode: 0 Status: OK PackageFile: a4Preproc_1.57.0.tgz PackageFileSize: 297.2 KiB