Package: a4Core Version: 1.57.0 Command: /Library/Frameworks/R.framework/Resources/bin/R CMD INSTALL a4Core StartedAt: 2025-10-24 15:22:52 -0400 (Fri, 24 Oct 2025) EndedAt: 2025-10-24 15:23:09 -0400 (Fri, 24 Oct 2025) EllapsedTime: 16.8 seconds RetCode: 0 Status: OK