Package: a4Core Version: 1.57.0 Command: /Library/Frameworks/R.framework/Resources/bin/R CMD INSTALL a4Core StartedAt: 2025-10-24 15:09:55 -0400 (Fri, 24 Oct 2025) EndedAt: 2025-10-24 15:09:59 -0400 (Fri, 24 Oct 2025) EllapsedTime: 4.3 seconds RetCode: 0 Status: OK