Package: a4Classif Version: 1.58.0 Command: /home/biocbuild/bbs-3.22-bioc/R/bin/R CMD check --install=check:a4Classif.install-out.txt --library=/home/biocbuild/bbs-3.22-bioc/R/site-library --timings a4Classif_1.58.0.tar.gz StartedAt: 2025-11-02 21:10:54 -0500 (Sun, 02 Nov 2025) EndedAt: 2025-11-02 21:12:24 -0500 (Sun, 02 Nov 2025) EllapsedTime: 90.2 seconds RetCode: 0 Status: OK CheckDir: a4Classif.Rcheck Warnings: 0