Package: a4Classif Version: 1.57.0 Command: /Library/Frameworks/R.framework/Resources/bin/R CMD INSTALL a4Classif StartedAt: 2025-10-24 15:09:59 -0400 (Fri, 24 Oct 2025) EndedAt: 2025-10-24 15:10:02 -0400 (Fri, 24 Oct 2025) EllapsedTime: 2.5 seconds RetCode: 0 Status: OK