Package: a4Classif Version: 1.57.0 Command: /Library/Frameworks/R.framework/Resources/bin/R CMD build --keep-empty-dirs --no-resave-data a4Classif StartedAt: 2025-10-24 15:38:17 -0400 (Fri, 24 Oct 2025) EndedAt: 2025-10-24 15:38:29 -0400 (Fri, 24 Oct 2025) EllapsedTime: 12.2 seconds RetCode: 0 Status: OK PackageFile: a4Classif_1.57.0.tar.gz PackageFileSize: 648.9 KiB