Package: a4Classif Version: 1.57.0 Command: rm -rf a4Classif.buildbin-libdir && mkdir a4Classif.buildbin-libdir && /Users/biocbuild/BBS/utils/build-universal.sh a4Classif_1.57.0.tar.gz /Library/Frameworks/R.framework/Resources/bin/R a4Classif.buildbin-libdir StartedAt: 2025-10-24 22:53:21 -0400 (Fri, 24 Oct 2025) EndedAt: 2025-10-24 22:53:24 -0400 (Fri, 24 Oct 2025) EllapsedTime: 3.1 seconds RetCode: 0 Status: OK PackageFile: a4Classif_1.57.0.tgz PackageFileSize: 681.8 KiB