Package: a4Classif Version: 1.58.0 Maintainer: Laure Cougnaud MaintainerEmail: laure.cougnaud at openanalytics.eu git_url: https://git.bioconductor.org/packages/a4Classif git_branch: RELEASE_3_22 git_last_commit: f42a7db git_last_commit_date: 2025-10-29 10:07:26 -0400 (Wed, 29 Oct 2025)