Package: a4Base Version: 1.58.0 Command: /home/biocbuild/R/R/bin/R CMD INSTALL a4Base StartedAt: 2025-11-17 21:58:40 -0000 (Mon, 17 Nov 2025) EndedAt: 2025-11-17 21:59:10 -0000 (Mon, 17 Nov 2025) EllapsedTime: 29.1 seconds RetCode: 0 Status: OK