Package: a4Base Version: 1.57.0 Command: /home/biocbuild/bbs-3.22-bioc/R/bin/R CMD check --install=check:a4Base.install-out.txt --library=/home/biocbuild/bbs-3.22-bioc/R/site-library --timings a4Base_1.57.0.tar.gz StartedAt: 2025-10-24 21:02:38 -0400 (Fri, 24 Oct 2025) EndedAt: 2025-10-24 21:05:41 -0400 (Fri, 24 Oct 2025) EllapsedTime: 183.3 seconds RetCode: 0 Status: OK CheckDir: a4Base.Rcheck Warnings: 0