Package: a4Base Version: 1.57.0 Command: /Library/Frameworks/R.framework/Resources/bin/R CMD INSTALL a4Base StartedAt: 2025-10-24 15:48:26 -0400 (Fri, 24 Oct 2025) EndedAt: 2025-10-24 15:48:54 -0400 (Fri, 24 Oct 2025) EllapsedTime: 28.6 seconds RetCode: 0 Status: OK