Package: a4Base Version: 1.57.0 Command: rm -rf a4Base.buildbin-libdir && mkdir a4Base.buildbin-libdir && /Users/biocbuild/BBS/utils/build-universal.sh a4Base_1.57.0.tar.gz /Library/Frameworks/R.framework/Resources/bin/R a4Base.buildbin-libdir StartedAt: 2025-10-25 01:26:59 -0400 (Sat, 25 Oct 2025) EndedAt: 2025-10-25 01:27:31 -0400 (Sat, 25 Oct 2025) EllapsedTime: 32.3 seconds RetCode: 0 Status: OK PackageFile: a4Base_1.57.0.tgz PackageFileSize: 570.9 KiB