Package: a4Base Version: 1.57.0 Command: /Library/Frameworks/R.framework/Resources/bin/R CMD INSTALL a4Base StartedAt: 2025-10-24 15:28:42 -0400 (Fri, 24 Oct 2025) EndedAt: 2025-10-24 15:28:51 -0400 (Fri, 24 Oct 2025) EllapsedTime: 8.6 seconds RetCode: 0 Status: OK