Package: a4Base Version: 1.57.0 Command: /Library/Frameworks/R.framework/Resources/bin/R CMD build --keep-empty-dirs --no-resave-data a4Base StartedAt: 2025-10-24 15:38:17 -0400 (Fri, 24 Oct 2025) EndedAt: 2025-10-24 15:38:18 -0400 (Fri, 24 Oct 2025) EllapsedTime: 1.0 seconds RetCode: 0 Status: OK PackageFile: a4Base_1.57.0.tar.gz PackageFileSize: 366.5 KiB