Package: a4 Version: 1.57.0 Command: /home/biocbuild/bbs-3.22-bioc/R/bin/R CMD INSTALL a4 StartedAt: 2025-10-24 16:01:17 -0400 (Fri, 24 Oct 2025) EndedAt: 2025-10-24 16:01:37 -0400 (Fri, 24 Oct 2025) EllapsedTime: 19.3 seconds RetCode: 0 Status: OK