Package: ZygosityPredictor Version: 1.9.1 Command: /home/biocbuild/bbs-3.22-bioc/R/bin/R CMD build --keep-empty-dirs --no-resave-data --md5 ZygosityPredictor StartedAt: 2025-10-27 20:49:11 -0400 (Mon, 27 Oct 2025) EndedAt: 2025-10-27 20:50:13 -0400 (Mon, 27 Oct 2025) EllapsedTime: 61.3 seconds RetCode: 0 Status: OK PackageFile: ZygosityPredictor_1.9.1.tar.gz PackageFileSize: 827.4 KiB