Package: ZygosityPredictor Version: 1.10.0 Command: /Library/Frameworks/R.framework/Resources/bin/R CMD build --keep-empty-dirs --no-resave-data ZygosityPredictor StartedAt: 2025-10-30 00:35:19 -0400 (Thu, 30 Oct 2025) EndedAt: 2025-10-30 00:35:45 -0400 (Thu, 30 Oct 2025) EllapsedTime: 26.1 seconds RetCode: 0 Status: OK PackageFile: ZygosityPredictor_1.10.0.tar.gz PackageFileSize: 826.6 KiB