Package: ZygosityPredictor Version: 1.10.0 Command: rm -rf ZygosityPredictor.buildbin-libdir && mkdir ZygosityPredictor.buildbin-libdir && /Users/biocbuild/BBS/utils/build-universal.sh ZygosityPredictor_1.10.0.tar.gz /Library/Frameworks/R.framework/Resources/bin/R ZygosityPredictor.buildbin-libdir StartedAt: 2025-10-30 05:45:25 -0400 (Thu, 30 Oct 2025) EndedAt: 2025-10-30 05:45:40 -0400 (Thu, 30 Oct 2025) EllapsedTime: 15.7 seconds RetCode: 0 Status: OK PackageFile: ZygosityPredictor_1.10.0.tgz PackageFileSize: 982.1 KiB