Package: YAPSA Version: 1.35.1 Command: /home/biocbuild/bbs-3.22-bioc/R/bin/R CMD INSTALL YAPSA StartedAt: 2025-10-24 16:00:37 -0400 (Fri, 24 Oct 2025) EndedAt: 2025-10-24 16:01:38 -0400 (Fri, 24 Oct 2025) EllapsedTime: 60.9 seconds RetCode: 0 Status: OK