Package: YAPSA Version: 1.35.1 Command: /home/biocbuild/bbs-3.22-bioc/R/bin/R CMD build --keep-empty-dirs --no-resave-data --md5 YAPSA StartedAt: 2025-10-24 20:55:51 -0400 (Fri, 24 Oct 2025) EndedAt: 2025-10-24 20:59:15 -0400 (Fri, 24 Oct 2025) EllapsedTime: 204.4 seconds RetCode: 0 Status: OK PackageFile: YAPSA_1.35.1.tar.gz PackageFileSize: 4.181 MiB