Package: YAPSA Version: 1.36.0 Command: /Library/Frameworks/R.framework/Resources/bin/R CMD INSTALL YAPSA StartedAt: 2025-11-10 15:24:51 -0500 (Mon, 10 Nov 2025) EndedAt: 2025-11-10 15:25:16 -0500 (Mon, 10 Nov 2025) EllapsedTime: 25.3 seconds RetCode: 0 Status: OK