Package: YAPSA Version: 1.36.0 Command: /Library/Frameworks/R.framework/Resources/bin/R CMD build --keep-empty-dirs --no-resave-data YAPSA StartedAt: 2025-11-10 18:10:37 -0500 (Mon, 10 Nov 2025) EndedAt: 2025-11-10 18:11:55 -0500 (Mon, 10 Nov 2025) EllapsedTime: 78.7 seconds RetCode: 0 Status: OK PackageFile: YAPSA_1.36.0.tar.gz PackageFileSize: 4.022 MiB