Package: Xeva Version: 1.26.0 Command: /home/biocbuild/bbs-3.22-bioc/R/bin/R CMD INSTALL Xeva StartedAt: 2025-10-30 15:39:08 -0400 (Thu, 30 Oct 2025) EndedAt: 2025-10-30 15:39:44 -0400 (Thu, 30 Oct 2025) EllapsedTime: 36.7 seconds RetCode: 0 Status: OK