Package: Xeva Version: 1.26.0 Command: /home/biocbuild/bbs-3.22-bioc/R/bin/R CMD build --keep-empty-dirs --no-resave-data --md5 Xeva StartedAt: 2025-10-30 20:48:12 -0400 (Thu, 30 Oct 2025) EndedAt: 2025-10-30 20:49:12 -0400 (Thu, 30 Oct 2025) EllapsedTime: 60.0 seconds RetCode: 0 Status: OK PackageFile: Xeva_1.26.0.tar.gz PackageFileSize: 1.576 MiB