Package: XeniumIO Version: 1.1.3 Command: /home/biocbuild/bbs-3.22-bioc/R/bin/R CMD check --install=check:XeniumIO.install-out.txt --library=/home/biocbuild/bbs-3.22-bioc/R/site-library --timings XeniumIO_1.1.3.tar.gz StartedAt: 2025-10-28 05:25:23 -0400 (Tue, 28 Oct 2025) EndedAt: 2025-10-28 05:28:49 -0400 (Tue, 28 Oct 2025) EllapsedTime: 205.4 seconds RetCode: 0 Status: OK CheckDir: XeniumIO.Rcheck Warnings: 0