Package: XeniumIO Version: 1.1.3 Command: /Library/Frameworks/R.framework/Resources/bin/R CMD INSTALL XeniumIO StartedAt: 2025-10-24 15:32:23 -0400 (Fri, 24 Oct 2025) EndedAt: 2025-10-24 15:32:57 -0400 (Fri, 24 Oct 2025) EllapsedTime: 34.7 seconds RetCode: 0 Status: OK