Package: XeniumIO Version: 1.1.3 Command: rm -rf XeniumIO.buildbin-libdir && mkdir XeniumIO.buildbin-libdir && /Users/biocbuild/BBS/utils/build-universal.sh XeniumIO_1.1.3.tar.gz /Library/Frameworks/R.framework/Resources/bin/R XeniumIO.buildbin-libdir StartedAt: 2025-10-25 02:10:49 -0400 (Sat, 25 Oct 2025) EndedAt: 2025-10-25 02:11:24 -0400 (Sat, 25 Oct 2025) EllapsedTime: 34.8 seconds RetCode: 0 Status: OK PackageFile: XeniumIO_1.1.3.tgz PackageFileSize: 276.5 KiB