Package: XeniumIO Version: 1.1.3 Command: /Library/Frameworks/R.framework/Resources/bin/R CMD build --keep-empty-dirs --no-resave-data XeniumIO StartedAt: 2025-10-24 18:08:27 -0400 (Fri, 24 Oct 2025) EndedAt: 2025-10-24 18:08:43 -0400 (Fri, 24 Oct 2025) EllapsedTime: 16.2 seconds RetCode: 0 Status: OK PackageFile: XeniumIO_1.1.3.tar.gz PackageFileSize: 229.4 KiB