Package: XVector Version: 0.50.0 Command: /Library/Frameworks/R.framework/Resources/bin/R CMD INSTALL XVector StartedAt: 2025-11-03 15:20:55 -0500 (Mon, 03 Nov 2025) EndedAt: 2025-11-03 15:21:24 -0500 (Mon, 03 Nov 2025) EllapsedTime: 28.8 seconds RetCode: 0 Status: OK