Package: XVector Version: 0.50.0 Command: /Library/Frameworks/R.framework/Resources/bin/R CMD build --keep-empty-dirs --no-resave-data XVector StartedAt: 2025-11-03 19:16:01 -0500 (Mon, 03 Nov 2025) EndedAt: 2025-11-03 19:16:04 -0500 (Mon, 03 Nov 2025) EllapsedTime: 2.3 seconds RetCode: 0 Status: OK PackageFile: XVector_0.50.0.tar.gz PackageFileSize: 67.44 KiB