Package: XVector Version: 0.50.0 Command: rm -rf XVector.buildbin-libdir && mkdir XVector.buildbin-libdir && /Users/biocbuild/BBS/utils/build-universal.sh XVector_0.50.0.tar.gz /Library/Frameworks/R.framework/Resources/bin/R XVector.buildbin-libdir StartedAt: 2025-11-04 02:10:52 -0500 (Tue, 04 Nov 2025) EndedAt: 2025-11-04 02:11:18 -0500 (Tue, 04 Nov 2025) EllapsedTime: 25.9 seconds RetCode: 0 Status: OK PackageFile: XVector_0.50.0.tgz PackageFileSize: 628.9 KiB