Package: XVector Version: 0.49.1 Command: /Library/Frameworks/R.framework/Resources/bin/R CMD INSTALL XVector StartedAt: 2025-10-26 15:07:45 -0400 (Sun, 26 Oct 2025) EndedAt: 2025-10-26 15:07:51 -0400 (Sun, 26 Oct 2025) EllapsedTime: 6.4 seconds RetCode: 0 Status: OK