Package: XVector Version: 0.49.1 Command: /Library/Frameworks/R.framework/Resources/bin/R CMD build --keep-empty-dirs --no-resave-data XVector StartedAt: 2025-10-26 18:22:04 -0400 (Sun, 26 Oct 2025) EndedAt: 2025-10-26 18:22:05 -0400 (Sun, 26 Oct 2025) EllapsedTime: 1.0 seconds RetCode: 0 Status: OK PackageFile: XVector_0.49.1.tar.gz PackageFileSize: 66.32 KiB