Package: XVector Version: 0.49.1 Command: rm -rf XVector.buildbin-libdir && mkdir XVector.buildbin-libdir && /Users/biocbuild/BBS/utils/build-universal.sh XVector_0.49.1.tar.gz /Library/Frameworks/R.framework/Resources/bin/R XVector.buildbin-libdir StartedAt: 2025-10-26 22:51:53 -0400 (Sun, 26 Oct 2025) EndedAt: 2025-10-26 22:51:59 -0400 (Sun, 26 Oct 2025) EllapsedTime: 6.1 seconds RetCode: 0 Status: OK PackageFile: XVector_0.49.1.tgz PackageFileSize: 618.8 KiB