Package: XNAString Version: 1.17.1 Command: /Library/Frameworks/R.framework/Resources/bin/R CMD INSTALL XNAString StartedAt: 2025-10-24 15:49:06 -0400 (Fri, 24 Oct 2025) EndedAt: 2025-10-24 15:52:33 -0400 (Fri, 24 Oct 2025) EllapsedTime: 207.1 seconds RetCode: 0 Status: OK