Package: XNAString Version: 1.17.1 Command: /Library/Frameworks/R.framework/Resources/bin/R CMD INSTALL XNAString StartedAt: 2025-10-27 15:26:39 -0400 (Mon, 27 Oct 2025) EndedAt: 2025-10-27 15:26:41 -0400 (Mon, 27 Oct 2025) EllapsedTime: 2.0 seconds RetCode: 1 Status: ERROR