Package: XINA Version: 1.27.0 Command: /home/biocbuild/bbs-3.22-bioc/R/bin/R CMD build --keep-empty-dirs --no-resave-data --md5 XINA StartedAt: 2025-10-24 20:55:20 -0400 (Fri, 24 Oct 2025) EndedAt: 2025-10-24 20:55:50 -0400 (Fri, 24 Oct 2025) EllapsedTime: 30.0 seconds RetCode: 0 Status: OK PackageFile: XINA_1.27.0.tar.gz PackageFileSize: 2.535 MiB