Package: XAItest Version: 1.1.5 Command: /home/biocbuild/bbs-3.22-bioc/R/bin/R CMD INSTALL XAItest StartedAt: 2025-10-24 15:33:00 -0400 (Fri, 24 Oct 2025) EndedAt: 2025-10-24 15:33:03 -0400 (Fri, 24 Oct 2025) EllapsedTime: 3.3 seconds RetCode: 0 Status: OK