Package: XAItest Version: 1.1.5 Command: /home/biocbuild/bbs-3.22-bioc/R/bin/R CMD build --keep-empty-dirs --no-resave-data --md5 XAItest StartedAt: 2025-10-24 20:54:34 -0400 (Fri, 24 Oct 2025) EndedAt: 2025-10-24 20:56:28 -0400 (Fri, 24 Oct 2025) EllapsedTime: 114.1 seconds RetCode: 0 Status: OK PackageFile: XAItest_1.1.5.tar.gz PackageFileSize: 1.324 MiB