Package: XAItest Version: 1.2.0 Command: /Library/Frameworks/R.framework/Resources/bin/R CMD INSTALL XAItest StartedAt: 2025-11-03 15:14:06 -0500 (Mon, 03 Nov 2025) EndedAt: 2025-11-03 15:14:08 -0500 (Mon, 03 Nov 2025) EllapsedTime: 2.0 seconds RetCode: 0 Status: OK