Package: XAItest Version: 1.2.0 Command: /Library/Frameworks/R.framework/Resources/bin/R CMD build --keep-empty-dirs --no-resave-data XAItest StartedAt: 2025-10-31 18:11:45 -0400 (Fri, 31 Oct 2025) EndedAt: 2025-10-31 18:12:54 -0400 (Fri, 31 Oct 2025) EllapsedTime: 69.8 seconds RetCode: 0 Status: OK PackageFile: XAItest_1.2.0.tar.gz PackageFileSize: 1.387 MiB