Package: XAItest Version: 1.2.0 Command: rm -rf XAItest.buildbin-libdir && mkdir XAItest.buildbin-libdir && /Users/biocbuild/BBS/utils/build-universal.sh XAItest_1.2.0.tar.gz /Library/Frameworks/R.framework/Resources/bin/R XAItest.buildbin-libdir StartedAt: 2025-11-02 23:26:05 -0500 (Sun, 02 Nov 2025) EndedAt: 2025-11-02 23:26:07 -0500 (Sun, 02 Nov 2025) EllapsedTime: 2.0 seconds RetCode: 0 Status: OK PackageFile: XAItest_1.2.0.tgz PackageFileSize: 1.021 MiB